{"text_format":"1","workbook":"xlsx","n_sheets":2,"sheets":["Бланк уставок Рх-2","Лист1"],"not_rendered":{"charts":0,"images":0,"macros":1,"external_links":0,"defined_names":0,"comments":1,"pivot_tables":0},"unopened":[],"bounds":{"document_bytes":16777216,"sheet_cells":100000,"rows_first":2000,"rows_last":500,"rows_between":2000,"halvings":0,"cell_chars":16384,"cell_head_chars":4096},"cells_cut":0,"cells_raw":0,"read":"whole","date_system":"1900"}

{"sheet":"Бланк уставок Рх-2","index":0,"n_rows":60,"n_cols":24,"rows_kept":60,"cut":false,"hidden":false,"merged":[[39,1,39,10],[41,20,41,21],[41,12,41,19],[33,12,33,21],[56,8,56,9],[57,8,57,9],[58,12,58,19],[59,12,59,19],[44,12,44,21],[47,1,47,10],[52,9,52,10],[48,1,48,8],[48,9,48,10],[49,9,49,10],[50,9,50,10],[51,9,51,10],[20,19,20,21],[30,19,30,21],[36,12,36,21],[9,10,9,12],[10,10,10,12],[15,12,15,21],[19,12,19,21],[13,12,14,12],[13,19,14,19],[13,20,14,20],[13,21,14,21],[29,12,29,21],[37,1,37,10],[13,1,14,1],[13,8,14,8],[13,9,14,9],[13,10,14,10],[15,1,15,10],[18,1,18,10],[22,1,22,10],[27,1,27,10],[33,8,33,10],[0,19,0,21],[1,19,1,21],[2,19,2,21],[3,19,3,21],[4,19,4,21],[5,19,5,21],[6,19,6,21],[8,10,8,12],[7,8,7,11]]}
[null,null,null,null,null,null,null,null,null,null,null,null,null,null,null,null,null,null,null,"УТВЕРЖДАЮ:"]
[null,null,null,null,null,null,null,null,null,null,null,null,null,null,null,null,null,null,null,"Начальник СРЗА"]
[null,null,null,null,null,null,null,null,null,null,null,null,null,null,null,null,null,null,null,"ПАО \"Сети\" "]
[null,null,null,null,null,null,null,null,null,null,null,null,null,null,null,null,null,null,null,"___________________(Иванов И.И.) "]
[null,null,null,null,null,null,null,null,null,null,null,null,null,null,null,null,null,null,null,"              (подпись) "]
[null,null,null,null,null,null,null,null,null,null,null,null,null,null,null,null,null,null,null,"\"_____\" _______________ 20____ г. "]
[]
[null,null,null,null,null,null,null,null,"Бланк уставок реле тока ",null,null,null,"\"ПАРМА РТД-2\""]
[null,null,null,null,null,null,null,null,null,"Зав.№:",1,null,null,null,null,null,null,null,null,null,null,null,null,"\"ПАРМА РТ-2\""]
[null,null,null,null,null,null,null,null,null,"Подстанция:","ПС",null,null,null,null,null,null,null,null,null,null,null,null,"\"ПАРМА РТТ-2\""]
[null,null,null,null,null,null,null,null,null,"Присоединение:","Линия 10 кВ",null,null,null,null,null,null,null,null,null,null,null,null,"\"ПАРМА РТД-2\""]
[]
[]
[null,"Название",null,null,null,null,null,null,"Диапазон","Дискрет-\nность","Значение",null,"Название",null,null,null,null,null,null,"Диапазон","Дискрет-\nность","Значение"]
[null,null,null,null,null,null,"мин","макс",null,null,null,null,null,null,null,null,null,"мин","макс"]
[null,"ТО",null,null,null,null,null,null,null,null,null,null,"УРОВ"]
[null,"ТО",null,null,{"$f":"IF(COUNTIF($K17:$K17,Лист1!$E$3)+COUNTIF($K17:$K17,Лист1!$E$4)<>1,1,0)","v":0},null,"-","-","☐ или ☑","-","☐",null,"УРОВ",null,null,{"$f":"IF(COUNTIF($V17:$V17,Лист1!$E$3)+COUNTIF($V17:$V17,Лист1!$E$4)<>1,1,0)","v":0},null,"-","-","☐ или ☑","-","☐"]
[null,"Iто, А",null,null,{"$f":"IF(OR(COUNTBLANK($K18:$K18),$G18>MINA($K18:$K18)),1,0)","v":0},{"$f":"IF($H18<MAXA($K18:$K18),1,0)","v":0},1,125,{"$f":"CONCATENATE(TEXT(G18,\"#0,00\"),\" ... \",TEXT(H18,\"#0,00\"))","v":"1,00 ... 125,00"},0.01,10,null,"Iуров<, А",null,null,{"$f":"IF(OR(COUNTBLANK($V18:$V18),$R18>MINA($V18:$V18)),1,0)","v":0},{"$f":"IF($S18<MAXA($V18:$V18),1,0)","v":0},0.3,5,{"$f":"CONCATENATE(TEXT(R18,\"#0,00\"),\" ... \",TEXT(S18,\"#0,00\"))","v":"0,30 ... 5,00"},0.01,1]
[null,"I>>>",null,null,null,null,null,null,null,null,null,null,"Туров, с",null,null,{"$f":"IF(OR(COUNTBLANK($V19:$V19),$R19>MINA($V19:$V19)),1,0)","v":0},{"$f":"IF($S19<MAXA($V19:$V19),1,0)","v":0},0.1,10,{"$f":"CONCATENATE(TEXT(R19,\"#0,0\"),\" ... \",TEXT(S19,\"#0,0\"))","v":"0,1 ... 10,0"},0.1,1]
[null,"I>>>",null,null,{"$f":"IF(COUNTIF($K20:$K20,Лист1!$E$3)+COUNTIF($K20:$K20,Лист1!$E$4)<>1,1,0)","v":0},null,"-","-","☐ или ☑","-","☐",null,"АПВ"]
[null,"I>>>, А",null,null,{"$f":"IF(OR(COUNTBLANK($K21:$K21),$G21>MINA($K21:$K21)),1,0)","v":0},{"$f":"IF($H21<MAXA($K21:$K21),1,0)","v":0},0.5,125,{"$f":"CONCATENATE(TEXT(G21,\"#0,00\"),\" ... \",TEXT(H21,\"#0,00\"))","v":"0,50 ... 125,00"},0.01,7,null,"АПВ",null,null,null,null,"-","-","Выведено"]
[null,"Т>>>, с",null,null,{"$f":"IF(OR(COUNTBLANK($K22:$K22),$G22>MINA($K22:$K22)),1,0)","v":0},{"$f":"IF($H22<MAXA($K22:$K22),1,0)","v":0},0.05,100,{"$f":"CONCATENATE(TEXT(G22,\"#0,00\"),\" ... \",TEXT(H22,\"#0,00\"))","v":"0,05 ... 100,00"},0.01,0.2,null,"Тапв-1, с",null,null,{"$f":"IF(OR(COUNTBLANK($V22:$V22),$R22>MINA($V22:$V22)),1,0)","v":0},{"$f":"IF($S22<MAXA($V22:$V22),1,0)","v":0},0.2,200,{"$f":"CONCATENATE(TEXT(R22,\"#0,00\"),\" ... \",TEXT(S22,\"#0,00\"))","v":"0,20 ... 200,00"},0.01,1]
[null,"I>>",null,null,null,null,null,null,null,null,null,null,"Тапв-2, с",null,null,{"$f":"IF(OR(COUNTBLANK($V23:$V23),$R23>MINA($V23:$V23)),1,0)","v":0},{"$f":"IF($S23<MAXA($V23:$V23),1,0)","v":0},0.2,200,{"$f":"CONCATENATE(TEXT(R23,\"#0,00\"),\" ... \",TEXT(S23,\"#0,00\"))","v":"0,20 ... 200,00"},0.01,10]
[null,"I>>",null,null,{"$f":"IF(COUNTIF($K24:$K24,Лист1!$E$3)+COUNTIF($K24:$K24,Лист1!$E$4)<>1,1,0)","v":0},null,"-","-","☐ или ☑","-","☐",null,"Твозвр. АПВ, с",null,null,{"$f":"IF(OR(COUNTBLANK($V24:$V24),$R24>MINA($V24:$V24)),1,0)","v":0},{"$f":"IF($S24<MAXA($V24:$V24),1,0)","v":0},5,360,{"$f":"CONCATENATE(TEXT(R24,\"#0\"),\" ... \",TEXT(S24,\"#0\"))","v":"5 ... 360"},1,30]
[null,"Уск. I>>",null,null,null,null,null,null,"☐ или ☑","-","☐",null,"ВЗ с АПВ",null,null,{"$f":"IF(COUNTIF($V25:$V25,Лист1!$E$3)+COUNTIF($V25:$V25,Лист1!$E$4)<>1,1,0)","v":0},null,"-","-","☐ или ☑","-","☐"]
[null,"I>>, А",null,null,{"$f":"IF(OR(COUNTBLANK($K26:$K26),$G26>MINA($K26:$K26)),1,0)","v":0},{"$f":"IF($H26<MAXA($K26:$K26),1,0)","v":0},0.5,125,{"$f":"CONCATENATE(TEXT(G26,\"#0,00\"),\" ... \",TEXT(H26,\"#0,00\"))","v":"0,50 ... 125,00"},0.01,5,null,"АПВ по СО",null,null,{"$f":"IF(COUNTIF($V26:$V26,Лист1!$E$3)+COUNTIF($V26:$V26,Лист1!$E$4)<>1,1,0)","v":0},null,"-","-","☐ или ☑","-","☐"]
[null,"Т>>, с",null,null,{"$f":"IF(OR(COUNTBLANK($K27:$K27),$G27>MINA($K27:$K27)),1,0)","v":0},{"$f":"IF($H27<MAXA($K27:$K27),1,0)","v":0},0.05,100,{"$f":"CONCATENATE(TEXT(G27,\"#0,00\"),\" ... \",TEXT(H27,\"#0,00\"))","v":"0,05 ... 100,00"},0.01,0.5,null,"Блок. по ТО",null,null,{"$f":"IF(COUNTIF($V27:$V27,Лист1!$E$3)+COUNTIF($V27:$V27,Лист1!$E$4)<>1,1,0)","v":0},null,"-","-","☐ или ☑","-","☐"]
[null,"I>",null,null,null,null,null,null,null,null,null,null,"Блок. по I>>>",null,null,{"$f":"IF(COUNTIF($V28:$V28,Лист1!$E$3)+COUNTIF($V28:$V28,Лист1!$E$4)<>1,1,0)","v":0},null,"-","-","☐ или ☑","-","☐"]
[null,"I>",null,null,{"$f":"IF(COUNTIF($K29:$K29,Лист1!$E$3)+COUNTIF($K29:$K29,Лист1!$E$4)<>1,1,0)","v":0},null,"-","-","☐ или ☑","-","☐",null,"Блок. по УМТЗ",null,null,{"$f":"IF(COUNTIF($V29:$V29,Лист1!$E$3)+COUNTIF($V29:$V29,Лист1!$E$4)<>1,1,0)","v":0},null,"-","-","☐ или ☑","-","☐"]
[null,"I> на откл.",null,null,{"$f":"IF(COUNTIF($K30:$K30,Лист1!$E$3)+COUNTIF($K30:$K30,Лист1!$E$4)<>1,1,0)","v":0},null,"-","-","☐ или ☑","-","☐",null,"АЧР/ЧАПВ"]
[null,"Уск. I>",null,null,{"$f":"IF(COUNTIF($K31:$K31,Лист1!$E$3)+COUNTIF($K31:$K31,Лист1!$E$4)<>1,1,0)","v":0},null,"-","-","☐ или ☑","-","☐",null,"АЧР",null,null,null,null,"-","-","Выведена"]
[null,"I>, А",null,null,{"$f":"IF(OR(COUNTBLANK($K32:$K32),$G32>MINA($K32:$K32)),1,0)","v":0},{"$f":"IF($H32<MAXA($K32:$K32),1,0)","v":0},0.5,10,{"$f":"CONCATENATE(TEXT(G32,\"#0,00\"),\" ... \",TEXT(H32,\"#0,00\"))","v":"0,50 ... 10,00"},0.01,3,null,"Тачр, с",null,null,{"$f":"IF(OR(COUNTBLANK($V32:$V32),$R32>MINA($V32:$V32)),1,0)","v":0},{"$f":"IF($S32<MAXA($V32:$V32),1,0)","v":0},0,10,{"$f":"CONCATENATE(TEXT(R32,\"#0,00\"),\" ... \",TEXT(S32,\"#0,00\"))","v":"0,00 ... 10,00"},0.01,0]
[null,"Т>, с",null,null,{"$f":"IF(OR(COUNTBLANK($K33:$K33),$G33>MINA($K33:$K33)),1,0)","v":0},{"$f":"IF($H33<MAXA($K33:$K33),1,0)","v":0},0.05,300,{"$f":"CONCATENATE(TEXT(G33,\"#0,00\"),\" ... \",TEXT(H33,\"#0,00\"))","v":"0,05 ... 300,00"},0.01,2,null,"Тчапв, с",null,null,{"$f":"IF(OR(COUNTBLANK($V33:$V33),$R33>MINA($V33:$V33)),1,0)","v":0},{"$f":"IF($S33<MAXA($V33:$V33),1,0)","v":0},0,100,{"$f":"CONCATENATE(TEXT(R33,\"#0,00\"),\" ... \",TEXT(S33,\"#0,00\"))","v":"0,00 ... 100,00"},0.01,0]
[null,"Характеристика",null,null,null,null,"-","-","Независимая",null,null,null,"АУВ"]
[null,"Тзав.мин., с",null,null,{"$f":"IF(OR(COUNTBLANK($K35:$K35),$G35>MINA($K35:$K35)),1,0)","v":0},{"$f":"IF($H35<MAXA($K35:$K35),1,0)","v":0},0.05,60,{"$f":"CONCATENATE(TEXT(G35,\"#0,00\"),\" ... \",TEXT(H35,\"#0,00\"))","v":"0,05 ... 60,00"},0.01,1,null,"Блок. РВ по МТЗ",null,null,null,null,null,null,"☐ или ☑","-","☐"]
[null,"Твозвр., с",null,null,{"$f":"IF(OR(COUNTBLANK($K36:$K36),$G36>MINA($K36:$K36)),1,0)","v":0},{"$f":"IF($H36<MAXA($K36:$K36),1,0)","v":0},0.05,60,{"$f":"CONCATENATE(TEXT(G36,\"#0,00\"),\" ... \",TEXT(H36,\"#0,00\"))","v":"0,05 ... 60,00"},0.01,5,null,"Блок. РВ по ВЗ",null,null,null,null,null,null,"☐ или ☑","-","☐"]
[null,"TMS",null,null,{"$f":"IF(OR(COUNTBLANK($K37:$K37),$G37>MINA($K37:$K37)),1,0)","v":0},{"$f":"IF($H37<MAXA($K37:$K37),1,0)","v":0},0.05,10,{"$f":"CONCATENATE(TEXT(G37,\"#0,00\"),\" ... \",TEXT(H37,\"#0,00\"))","v":"0,05 ... 10,00"},0.01,1,null,"Общие"]
[null,"Ускорение",null,null,null,null,null,null,null,null,null,null,"Кт I",null,null,{"$f":"IF(OR(COUNTBLANK($V38:$V38),$R38>MINA($V38:$V38)),1,0)","v":0},{"$f":"IF($S38<MAXA($V38:$V38),1,0)","v":0},1,10000,{"$f":"CONCATENATE(TEXT(R38,\"#0\"),\" ... \",TEXT(S38,\"#0\"))","v":"1 ... 10000"},1,100]
[null,"Туск., с",null,null,{"$f":"IF(OR(COUNTBLANK($K39:$K39),$G39>MINA($K39:$K39)),1,0)","v":0},{"$f":"IF($H39<MAXA($K39:$K39),1,0)","v":0},0.05,1,{"$f":"CONCATENATE(TEXT(G39,\"#0,00\"),\" ... \",TEXT(H39,\"#0,00\"))","v":"0,05 ... 1,00"},0.01,0.1,null,"Кв",null,null,{"$f":"IF(OR(COUNTBLANK($V39:$V39),$R39>MINA($V39:$V39)),1,0)","v":0},{"$f":"IF($S39<MAXA($V39:$V39),1,0)","v":0},0.6,0.96,{"$f":"CONCATENATE(TEXT(R39,\"#0,00\"),\" ... \",TEXT(S39,\"#0,00\"))","v":"0,60 ... 0,96"},0.01,0.95]
[null,"ВЗ",null,null,null,null,null,null,null,null,null,null,"Тпред., с",null,null,{"$f":"IF(OR(COUNTBLANK($V40:$V40),$R40>MINA($V40:$V40)),1,0)","v":0},{"$f":"IF($S40<MAXA($V40:$V40),1,0)","v":0},0.1,0.4,{"$f":"CONCATENATE(TEXT(R40,\"#0,0\"),\" ... \",TEXT(S40,\"#0,0\"))","v":"0,1 ... 0,4"},0.1,0.2]
[null,"ВЗ с контр. I>>",null,null,{"$f":"IF(COUNTIF($K41:$K41,Лист1!$E$3)+COUNTIF($K41:$K41,Лист1!$E$4)<>1,1,0)","v":0},null,"-","-","☐ или ☑","-","☐",null,"Тосц., с",null,null,{"$f":"IF(OR(COUNTBLANK($V41:$V41),$R41>MINA($V41:$V41)),1,0)","v":0},{"$f":"IF($S41<MAXA($V41:$V41),1,0)","v":0},0.5,10,{"$f":"CONCATENATE(TEXT(R41,\"#0,0\"),\" ... \",TEXT(S41,\"#0,0\"))","v":"0,5 ... 10,0"},0.1,1]
[null,"ВЗ на откл.",null,null,{"$f":"IF(COUNTIF($K42:$K42,Лист1!$E$3)+COUNTIF($K42:$K42,Лист1!$E$4)<>1,1,0)","v":0},null,"-","-","☐ или ☑","-","☑",null,"Положение выключателя",null,null,null,null,null,null,null,"ВКЛ-кр, ОТКЛ-зел"]
[null,"ВЗ с контр. I>>",null,null,{"$f":"IF(COUNTIF($K43:$K43,Лист1!$E$3)+COUNTIF($K43:$K43,Лист1!$E$4)<>1,1,0)","v":0},null,"-","-","☐ или ☑","-","☐"]
[null,"ВЗ на откл.",null,null,{"$f":"IF(COUNTIF($K44:$K44,Лист1!$E$3)+COUNTIF($K44:$K44,Лист1!$E$4)<>1,1,0)","v":0},null,"-","-","☐ или ☑","-","☐"]
[null,"Контр. испр.",null,null,{"$f":"IF(COUNTIF($K45:$K45,Лист1!$E$3)+COUNTIF($K45:$K45,Лист1!$E$4)<>1,1,0)","v":0},null,"-","-","☐ или ☑","-","☐",null,"Дешунтирование"]
[null,null,null,null,null,null,null,null,null,null,null,null,"Только от защит",null,null,{"$f":"IF(COUNTIF($V46:$V46,Лист1!$E$3)+COUNTIF($V46:$V46,Лист1!$E$4)<>1,1,0)","v":0},null,"-","-","☐ или ☑","-","☐"]
[]
[null,"Настройки RS-485"]
[null,"Название",null,null,null,null,null,null,null,"Значение"]
[null,"Протокол",null,null,null,null,null,null,null,"MODBUS RTU"]
[null,"Адрес",null,null,null,null,null,null,null,1]
[null,"Скорость",null,null,null,null,null,null,null,115200]
[null,"Формат кадра",null,null,null,null,null,null,null,"8E1"]
[]
[]
[]
[null,"Разработал:",null,null,null,null,null,null,"_____________________",null,"___________"]
[null,null,null,null,null,null,null,null,"(должность)",null,"(подпись)"]
[null,null,null,null,null,null,null,null,null,null,null,null,"___________________________"]
[null,null,null,null,null,null,null,null,null,null,null,null,"(ФИО)"]

{"sheet":"Лист1","index":1,"n_rows":17,"n_cols":12,"rows_kept":17,"cut":false,"hidden":true,"merged":[]}
[]
[null,null,null,null,null,null,null,null,null,"протокол","скорость","формат"]
[null,null,null,null,"☐","Независимая","Выведено","Выведена","ВКЛ-кр, ОТКЛ-зел","MODBUS RTU",4800,"8E1"]
[null,null,null,null,"☑","МЭК нормально инверсная (A)","1 цикл","АЧР-А","ВКЛ-зел, ОТКЛ-кр",null,9600,"8O1"]
[null,null,null,null,null,"МЭК сильно инверсная (B)","2 цикла","АЧР-Б",null,null,19200,"8N2"]
[null,null,null,null,null,"МЭК чрезвычайно инверсная (С)",null,null,null,null,38400]
[null,null,null,null,null,"МЭК длительно инверсная",null,null,null,null,57600,"7E1"]
[null,null,null,null,null,"МЭК ультра инверсная",null,null,null,null,115200,"7O1"]
[null,null,null,null,null,"ANSI нормально инверсная",null,null,null,null,230400,"7N2"]
[null,null,null,null,null,"ANSI умеренно инверсная (D)"]
[null,null,null,null,null,"ANSI сильно инверсная (E)"]
[null,null,null,null,null,"ANSI чрезвычайно инверсная (F)"]
[null,null,null,null,null,"ANSI длительно инверсная"]
[null,null,null,null,null,"ANSI длительно сильно инверсная"]
[null,null,null,null,null,"ANSI длительно чрезвычайно инверсная"]
[null,null,null,null,null,"Крутая (РТВ-1)"]
[null,null,null,null,null,"Пологая (РТ-80)"]